BEGIN:VCALENDAR
VERSION:2.0
PRODID:-//AStA - ECPv6.15.20//NONSGML v1.0//EN
CALSCALE:GREGORIAN
METHOD:PUBLISH
X-WR-CALNAME:AStA
X-ORIGINAL-URL:https://asta-dortmund.de
X-WR-CALDESC:Veranstaltungen für AStA
REFRESH-INTERVAL;VALUE=DURATION:PT1H
X-Robots-Tag:noindex
X-PUBLISHED-TTL:PT1H
BEGIN:VTIMEZONE
TZID:Europe/Berlin
BEGIN:DAYLIGHT
TZOFFSETFROM:+0100
TZOFFSETTO:+0200
TZNAME:CEST
DTSTART:20190331T010000
END:DAYLIGHT
BEGIN:STANDARD
TZOFFSETFROM:+0200
TZOFFSETTO:+0100
TZNAME:CET
DTSTART:20191027T010000
END:STANDARD
BEGIN:DAYLIGHT
TZOFFSETFROM:+0100
TZOFFSETTO:+0200
TZNAME:CEST
DTSTART:20200329T010000
END:DAYLIGHT
BEGIN:STANDARD
TZOFFSETFROM:+0200
TZOFFSETTO:+0100
TZNAME:CET
DTSTART:20201025T010000
END:STANDARD
BEGIN:DAYLIGHT
TZOFFSETFROM:+0100
TZOFFSETTO:+0200
TZNAME:CEST
DTSTART:20210328T010000
END:DAYLIGHT
BEGIN:STANDARD
TZOFFSETFROM:+0200
TZOFFSETTO:+0100
TZNAME:CET
DTSTART:20211031T010000
END:STANDARD
END:VTIMEZONE
BEGIN:VEVENT
DTSTART;TZID=Europe/Berlin:20200625T180000
DTEND;TZID=Europe/Berlin:20200625T200000
DTSTAMP:20260425T190442
CREATED:20200619T125130Z
LAST-MODIFIED:20200619T125701Z
UID:2995-1593108000-1593115200@asta-dortmund.de
SUMMARY:Vortrag Grenzenlose Wärme e.V. : Ankommen in der Unsicherheit l
DESCRIPTION:Von Griechenland nach Deutschland: Teil 1 der Veranstaltungsreihe „Ankommen in der Unsicherheit“ \nGrenzenlose Wärme e.V. stellt in diesem Vortrag die Situation Geflüchteter in Griechenlands Flüchtlingslagerne vor. Dies wird mit Zahlen und Fakten rund um das Thema beschrieben. Außerdem zeigen Videobeiträge die aktuelle Entwicklung der Lage. Anschließend wird es eine Fragerunde geben. \n  \n\nZoom-Meeting beitreten:\n\n\nhttps://tu-dortmund.zoom.us/j/99505326694?pwd=RWgyTENDb3kvOXlKRUpNYXdDdkN3Zz09\n\n\n \n\n\nMeeting-ID: 995 0532 6694\n\n\nPasswort: 343810
URL:https://asta-dortmund.de/event/vortrag-grenzenlose-waerme-e-v-ankommen-in-der-unsicherheit-l/
END:VEVENT
END:VCALENDAR