BEGIN:VCALENDAR
VERSION:2.0
PRODID:-//AStA - ECPv6.15.20//NONSGML v1.0//EN
CALSCALE:GREGORIAN
METHOD:PUBLISH
X-ORIGINAL-URL:https://asta-dortmund.de
X-WR-CALDESC:Veranstaltungen für AStA
REFRESH-INTERVAL;VALUE=DURATION:PT1H
X-Robots-Tag:noindex
X-PUBLISHED-TTL:PT1H
BEGIN:VTIMEZONE
TZID:Europe/Berlin
BEGIN:DAYLIGHT
TZOFFSETFROM:+0100
TZOFFSETTO:+0200
TZNAME:CEST
DTSTART:20190331T010000
END:DAYLIGHT
BEGIN:STANDARD
TZOFFSETFROM:+0200
TZOFFSETTO:+0100
TZNAME:CET
DTSTART:20191027T010000
END:STANDARD
BEGIN:DAYLIGHT
TZOFFSETFROM:+0100
TZOFFSETTO:+0200
TZNAME:CEST
DTSTART:20200329T010000
END:DAYLIGHT
BEGIN:STANDARD
TZOFFSETFROM:+0200
TZOFFSETTO:+0100
TZNAME:CET
DTSTART:20201025T010000
END:STANDARD
BEGIN:DAYLIGHT
TZOFFSETFROM:+0100
TZOFFSETTO:+0200
TZNAME:CEST
DTSTART:20210328T010000
END:DAYLIGHT
BEGIN:STANDARD
TZOFFSETFROM:+0200
TZOFFSETTO:+0100
TZNAME:CET
DTSTART:20211031T010000
END:STANDARD
END:VTIMEZONE
BEGIN:VEVENT
DTSTART;TZID=Europe/Berlin:20200629T180000
DTEND;TZID=Europe/Berlin:20200629T200000
DTSTAMP:20260425T173330
CREATED:20200619T125235Z
LAST-MODIFIED:20200619T130131Z
UID:2997-1593453600-1593460800@asta-dortmund.de
SUMMARY:Vortrag Dr. Susanne Leitner: Ankommen in der Unsicherheit ll
DESCRIPTION:Ankommen in der Unsicherheit – Pädagogische Perspektiven auf das Leben mit unsicherer Bleibeperspektive \nVon Griechenland nach Deutschland: Teil 2 der Veranstaltungsreihe „Ankommen in der Unsicherheit“ beschäftigt sich mit den Bleibeperspektiven von Geflüchteten in Deutschland. \nFrau Dr. Susanne Leitner von der Fakultät Rehabilitationswissenschaften gewährt den Teilnehmer*innen der Veranstaltung zum Einstieg einen Einblick in Lebenslagen Geflüchteter mit prekärer Bleibeperspektive in Deutschland mit Fokus auf den Sonderweg der „Duldung“\, um im Folgenden auf die „chronifizierte Vorläufigkeit“ aus traumsensibler Perspektive einzugehen. Der Blick in die Praxis darf natürlich nicht fehlen: Anhand eines Fallbeispiels aus der Arbeit mit unbegleiteten minderjährigen Geflüchteten wird das Thema machtkritisch betrachtet und darüber hinaus werden pädagogische Forderungen und Anforderungen aufgezeichnet. Im Anschluss an den theoretischen und praktischen Input sind alle Teilnehmer*innen herzliche eingeladen\, Fragen zu stellen und miteinander in den Austausch zu treten. \n  \n\nZoom-Meeting beitreten:\n\n\nhttps://tu-dortmund.zoom.us/j/92253253758?pwd=MDYzUHVyUXhKTWRKdUFVL0RiYlMwUT09\n\n\n \n\n\nMeeting-ID: 922 5325 3758\n\n\nPasswort: 506228
URL:https://asta-dortmund.de/event/vortrag-dr-susanne-leitner-ankommen-in-der-unsicherheit-ll/
END:VEVENT
END:VCALENDAR