BEGIN:VCALENDAR
VERSION:2.0
PRODID:-//AStA - ECPv6.15.20//NONSGML v1.0//EN
CALSCALE:GREGORIAN
METHOD:PUBLISH
X-WR-CALNAME:AStA
X-ORIGINAL-URL:https://asta-dortmund.de
X-WR-CALDESC:Veranstaltungen für AStA
REFRESH-INTERVAL;VALUE=DURATION:PT1H
X-Robots-Tag:noindex
X-PUBLISHED-TTL:PT1H
BEGIN:VTIMEZONE
TZID:Europe/Berlin
BEGIN:DAYLIGHT
TZOFFSETFROM:+0100
TZOFFSETTO:+0200
TZNAME:CEST
DTSTART:20190331T010000
END:DAYLIGHT
BEGIN:STANDARD
TZOFFSETFROM:+0200
TZOFFSETTO:+0100
TZNAME:CET
DTSTART:20191027T010000
END:STANDARD
BEGIN:DAYLIGHT
TZOFFSETFROM:+0100
TZOFFSETTO:+0200
TZNAME:CEST
DTSTART:20200329T010000
END:DAYLIGHT
BEGIN:STANDARD
TZOFFSETFROM:+0200
TZOFFSETTO:+0100
TZNAME:CET
DTSTART:20201025T010000
END:STANDARD
BEGIN:DAYLIGHT
TZOFFSETFROM:+0100
TZOFFSETTO:+0200
TZNAME:CEST
DTSTART:20210328T010000
END:DAYLIGHT
BEGIN:STANDARD
TZOFFSETFROM:+0200
TZOFFSETTO:+0100
TZNAME:CET
DTSTART:20211031T010000
END:STANDARD
END:VTIMEZONE
BEGIN:VEVENT
DTSTART;TZID=Europe/Berlin:20200606T200000
DTEND;TZID=Europe/Berlin:20200606T230000
DTSTAMP:20260425T172939
CREATED:20200524T122651Z
LAST-MODIFIED:20200524T122651Z
UID:2879-1591473600-1591484400@asta-dortmund.de
SUMMARY:Digitales Kneipenquiz
DESCRIPTION:Besondere Zeiten erfordern ein besonderes Unterhaltungsformat! Nicht nur\ndie TU Dortmund ist in diesem Semester digital unterwegs\, sondern auch das\nKulturprogramm des AStA. Zusammen mit unseren charmanten Quizmastern\nChristian und Matthias holen wir für euch das Kneipenfeeling in euer\nWohnzimmer. Im ersten digitalen Kneipenquiz der TU Geschichte führen euch\ndie beiden durch ein wildes Potpourri an Fragen und Themen. \nDatum: 06.06.20\nStart: 20 Uhr\nEinlass in die Zoomkonferenz: 19:30 (spätestens bis 19:45 da sein)\nTeamgröße: 2-7 Personen\nMaximale Teamanzahl: 15 (first come\, first serve) \nTeam-Anmeldung via Mail an das AStA Team unter kultur@asta.tu-dortmund.de (bitte meldet alle eure Teammitglieder zusammen mit einem Teamnamen an!) Ihr solltet Folgendes im\nGepäck haben:\n– Einen Laptop / PC\n– 3 Stunden eurer wertvollen Zeit\n– Kaltgetränke zum gemeinsamen Anstoßen
URL:https://asta-dortmund.de/event/digitales-kneipenquiz/
END:VEVENT
BEGIN:VEVENT
DTSTART;TZID=Europe/Berlin:20200612T190000
DTEND;TZID=Europe/Berlin:20200612T220000
DTSTAMP:20260425T172939
CREATED:20200529T141009Z
LAST-MODIFIED:20200529T141009Z
UID:2904-1591988400-1591999200@asta-dortmund.de
SUMMARY:Mörderische Dinnerparty - Der Fluch der grünen Damen
DESCRIPTION:Cornwall 1953. Castle Darkmore ist ein perfekter Platz\, um einen Gruselfilm zu drehen. In dem alten Gemäuer gibt es jede Menge rostige Ritterrüstungen\, quietschende Türen – und vor allem ein echtes Gespenst. \nIm 16. Jahrhundert ist hier die hässliche Lady Darkmore zu Tode gestürzt\, hinterhältig dahingemeuchelt von ihrem Ehemann\, der sie aus dem Weg geräumt hat\, um seine hübsche junge Geliebte heiraten zu können. Tödlich verwundet verfluchte sie das Haus und drohte allen Ehebrechern in seinen Mauern den Tod. \nAn einem eisigen Wintermorgen liegt der Regisseur und Drehbuchautor\, Oscar Wilder\, tot im seinen Bett. In seinem Zimmer finden sich auch deutlich Indizien dafür\, dass er die Nacht mit einer Frau verbracht hat – die nicht seine Ehefrau war. Pikanterweise ist die Tür zu seinem Schlafzimmer jedoch von Innen verschlossen. Und auf dem Brokatkleid der Lady\, das im Schlossturm ausgestellt ist\, finden sich Blutspuren… \nHat das eifersüchtige Gespenst den despotischen Regisseur erdolcht? Oder war es doch ein Mörder aus Fleisch und Blut? \nVerbringt mit uns den Abend (natürlich digital) um herauszufinden\, was sich auf Castle Darkmore abgespielt hat. \nDie Veranstaltung findet in Gruppen zwischen 6-8 Personen statt. \nANMELDUNGEN: \nBitte sendet eine Mail an kultur@asta.tu-dortmund.de mit den Namen eurer Teilnehmer + Mailadressen. \nIhr seid weniger als 6 Leute? Schreibt uns einfach eine Mail\, so dass wir schauen können\, ob wir gegebenenfalls eine Gruppe mit unterschiedlichen Personen zusammen stellen können.
URL:https://asta-dortmund.de/event/moerderische-dinnerparty-der-fluch-der-gruenen-damen/
END:VEVENT
BEGIN:VEVENT
DTSTART;TZID=Europe/Berlin:20200624T170000
DTEND;TZID=Europe/Berlin:20200624T190000
DTSTAMP:20260425T172939
CREATED:20200619T125033Z
LAST-MODIFIED:20200619T144831Z
UID:2991-1593018000-1593025200@asta-dortmund.de
SUMMARY:Alice Hasters - Lesung
DESCRIPTION:„Warum ist es eigentlich so schwer\, über Rassismus zu sprechen? \n„Darf ich mal deine Haare anfassen?“\, „Kannst du Sonnenbrand bekommen?“\, „Wo kommst du her?“ Wer solche Fragen stellt\, meint es meist nicht böse. Aber dennoch: Sie sind rassistisch. Warum\, das wollen weiße Menschen oft nicht hören.\nAlice Hasters erklärt es trotzdem. Eindringlich und geduldig beschreibt sie\, wie Rassismus ihren Alltag als Schwarze Frau in Deutschland prägt. Dabei wird klar: Rassismus ist nicht nur ein Problem am rechten Rand der Gesellschaft. Und sich mit dem eigenen Rassismus zu konfrontieren\, ist im ersten Moment schmerzhaft\, aber der einzige Weg\, ihn zu überwinden. \nAlice Hasters wurde 1989 in Köln geboren. Sie studierte Journalismus in München und arbeitet u. a. für die Tagesschau und den RBB. Mit Maxi Häcke spricht sie im monatlichen Podcast Feuer&Brot über Feminismus und Popkultur. Alice Hasters lebt in Berlin.“ \n  \nZoom-Meeting beitreten:\nhttps://tu-dortmund.zoom.us/j/97586621083?pwd=NHhWKzBENjVOZ0NMWDQ5OVZLUU5iZz09 \nMeeting-ID: 975 8662 1083\nPasswort: 361393
URL:https://asta-dortmund.de/event/alice-hasters-lesung/
END:VEVENT
BEGIN:VEVENT
DTSTART;TZID=Europe/Berlin:20200625T180000
DTEND;TZID=Europe/Berlin:20200625T200000
DTSTAMP:20260425T172939
CREATED:20200619T125130Z
LAST-MODIFIED:20200619T125701Z
UID:2995-1593108000-1593115200@asta-dortmund.de
SUMMARY:Vortrag Grenzenlose Wärme e.V. : Ankommen in der Unsicherheit l
DESCRIPTION:Von Griechenland nach Deutschland: Teil 1 der Veranstaltungsreihe „Ankommen in der Unsicherheit“ \nGrenzenlose Wärme e.V. stellt in diesem Vortrag die Situation Geflüchteter in Griechenlands Flüchtlingslagerne vor. Dies wird mit Zahlen und Fakten rund um das Thema beschrieben. Außerdem zeigen Videobeiträge die aktuelle Entwicklung der Lage. Anschließend wird es eine Fragerunde geben. \n  \n\nZoom-Meeting beitreten:\n\n\nhttps://tu-dortmund.zoom.us/j/99505326694?pwd=RWgyTENDb3kvOXlKRUpNYXdDdkN3Zz09\n\n\n \n\n\nMeeting-ID: 995 0532 6694\n\n\nPasswort: 343810
URL:https://asta-dortmund.de/event/vortrag-grenzenlose-waerme-e-v-ankommen-in-der-unsicherheit-l/
END:VEVENT
BEGIN:VEVENT
DTSTART;TZID=Europe/Berlin:20200629T180000
DTEND;TZID=Europe/Berlin:20200629T200000
DTSTAMP:20260425T172939
CREATED:20200619T125235Z
LAST-MODIFIED:20200619T130131Z
UID:2997-1593453600-1593460800@asta-dortmund.de
SUMMARY:Vortrag Dr. Susanne Leitner: Ankommen in der Unsicherheit ll
DESCRIPTION:Ankommen in der Unsicherheit – Pädagogische Perspektiven auf das Leben mit unsicherer Bleibeperspektive \nVon Griechenland nach Deutschland: Teil 2 der Veranstaltungsreihe „Ankommen in der Unsicherheit“ beschäftigt sich mit den Bleibeperspektiven von Geflüchteten in Deutschland. \nFrau Dr. Susanne Leitner von der Fakultät Rehabilitationswissenschaften gewährt den Teilnehmer*innen der Veranstaltung zum Einstieg einen Einblick in Lebenslagen Geflüchteter mit prekärer Bleibeperspektive in Deutschland mit Fokus auf den Sonderweg der „Duldung“\, um im Folgenden auf die „chronifizierte Vorläufigkeit“ aus traumsensibler Perspektive einzugehen. Der Blick in die Praxis darf natürlich nicht fehlen: Anhand eines Fallbeispiels aus der Arbeit mit unbegleiteten minderjährigen Geflüchteten wird das Thema machtkritisch betrachtet und darüber hinaus werden pädagogische Forderungen und Anforderungen aufgezeichnet. Im Anschluss an den theoretischen und praktischen Input sind alle Teilnehmer*innen herzliche eingeladen\, Fragen zu stellen und miteinander in den Austausch zu treten. \n  \n\nZoom-Meeting beitreten:\n\n\nhttps://tu-dortmund.zoom.us/j/92253253758?pwd=MDYzUHVyUXhKTWRKdUFVL0RiYlMwUT09\n\n\n \n\n\nMeeting-ID: 922 5325 3758\n\n\nPasswort: 506228
URL:https://asta-dortmund.de/event/vortrag-dr-susanne-leitner-ankommen-in-der-unsicherheit-ll/
END:VEVENT
END:VCALENDAR